BEGIN:VCALENDAR
VERSION:2.0
PRODID:-//Knottwood Community - ECPv6.15.20//NONSGML v1.0//EN
CALSCALE:GREGORIAN
METHOD:PUBLISH
X-ORIGINAL-URL:https://knottwoodcommunity.ca
X-WR-CALDESC:Events for Knottwood Community
REFRESH-INTERVAL;VALUE=DURATION:PT1H
X-Robots-Tag:noindex
X-PUBLISHED-TTL:PT1H
BEGIN:VTIMEZONE
TZID:America/Edmonton
BEGIN:DAYLIGHT
TZOFFSETFROM:-0700
TZOFFSETTO:-0600
TZNAME:MDT
DTSTART:20230312T090000
END:DAYLIGHT
BEGIN:STANDARD
TZOFFSETFROM:-0600
TZOFFSETTO:-0700
TZNAME:MST
DTSTART:20231105T080000
END:STANDARD
BEGIN:DAYLIGHT
TZOFFSETFROM:-0700
TZOFFSETTO:-0600
TZNAME:MDT
DTSTART:20240310T090000
END:DAYLIGHT
BEGIN:STANDARD
TZOFFSETFROM:-0600
TZOFFSETTO:-0700
TZNAME:MST
DTSTART:20241103T080000
END:STANDARD
BEGIN:DAYLIGHT
TZOFFSETFROM:-0700
TZOFFSETTO:-0600
TZNAME:MDT
DTSTART:20250309T090000
END:DAYLIGHT
BEGIN:STANDARD
TZOFFSETFROM:-0600
TZOFFSETTO:-0700
TZNAME:MST
DTSTART:20251102T080000
END:STANDARD
END:VTIMEZONE
BEGIN:VEVENT
DTSTART;TZID=America/Edmonton:20240407T120000
DTEND;TZID=America/Edmonton:20240407T170000
DTSTAMP:20260420T094433
CREATED:20240319T215056Z
LAST-MODIFIED:20240325T222536Z
UID:10000161-1712491200-1712509200@knottwoodcommunity.ca
SUMMARY:A Taste of Indigenous Canada
DESCRIPTION:We are delighted to welcome True North Aid’s A Taste of Indigenous Canada to our Knottwood Centre! ATOIC was established in Ontario in 2019\, and they are kicking off ATOIC 2024 in Edmonton at our Knottwood Centre on Sunday\, April 7! \nA Taste of Indigenous Canada: a celebration of Indigenous culture through education\nSunday\, April 7\nKnottwood Community Centre\, 449 Knottwood Rd W\, NW\n12 to 5 pm \n\nJoin us for an Indigenous artisans market\nEnjoy samples of traditional food from Tee Pee Treats\nGather for a time of teaching and interactive learning\nExperience a Powwow 101 workshop with facilitator and performer Sissy Thiessen Kootenayoo of Wase Saba(Black Bear) Experiences\nBe treated to the drumming\, singing\, and stories of Chubby Cree.\n\nDoors open/Artisan market | 12noon\nChubby Cree performs | 12:30 pm\nProgram | 2pm \n \n$20 Advance Admission | $25 Day of Admission\n$5 Kids under 12 | $45 Group (2 adults\, 2 kids)\nMarket-only | by donation.\nPurchase your advance tickets here\n 
URL:https://knottwoodcommunity.ca/event/a-taste-of-indigenous-canada/
LOCATION:Knottwood Community Centre\, 449 Knottwood Rd West\, NW\, Edmonton\, Alberta\, Canada
CATEGORIES:Adult,Community,Senior,Youth
ATTACH;FMTTYPE=image/jpeg:https://knottwoodcommunity.ca/wp-content/uploads/2024/03/poster-e1710883627307.jpg
END:VEVENT
BEGIN:VEVENT
DTSTART;TZID=America/Edmonton:20240421T080000
DTEND;TZID=America/Edmonton:20240421T170000
DTSTAMP:20260420T094433
CREATED:20240325T202217Z
LAST-MODIFIED:20240325T202217Z
UID:10000163-1713686400-1713718800@knottwoodcommunity.ca
SUMMARY:Knottwood Spring Cleanup
DESCRIPTION:Help us clean up our neighborhood!\n\nThis year\, we are hosting our community spring clean-up during the week of April 14 – 21.\nGrab your household and help clean up litter in Ekota\, Menisa\, and Satoo.\nPick any spot in Knottwood to clean. Our neighbourhood boundaries are 91 St to 66 St (west to east) and 23 Ave to the Henday (north to south).\n—\nYou can grab a cleaning kit at the new Knottwood Community Center during our office hours:\nMonday\, Tuesday\, Thursday\, Friday: 10 am to 2 pm\nWednesday evenings: 4 pm to 8 pm\nRSVP here to reserve your clean-up kit: https://forms.microsoft.com/r/XDjAjx5BGX\n—\nPARTICIPATE TO WIN! Each household will be entered to win gift cards to Canadian Tire.\nAlso\, we REALLY want to see your photos of the community clean up\, so if you post photos of your household cleaning up on Facebook or Instagram and tag #knottwoodspringclean\, you will receive extra entries into the draw.\n—\nQUESTIONS? Email info@knottwoodcommunity.ca or call 780. 462.7549.
URL:https://knottwoodcommunity.ca/event/knottwood-spring-cleanup/
CATEGORIES:Adult,Community,Senior,Youth
ATTACH;FMTTYPE=image/jpeg:https://knottwoodcommunity.ca/wp-content/uploads/2024/03/coimmunity-clean-up-2022-fb-images-1200x800-1.jpg
ORGANIZER;CN="Knottwood Community League Info":MAILTO:info@knottwoodcommunity.ca
END:VEVENT
BEGIN:VEVENT
DTSTART;TZID=America/Edmonton:20240424T100000
DTEND;TZID=America/Edmonton:20240424T110000
DTSTAMP:20260420T094433
CREATED:20240326T170140Z
LAST-MODIFIED:20240326T184339Z
UID:10000164-1713952800-1713956400@knottwoodcommunity.ca
SUMMARY:ZUMBA GOLD! at Knottwood
DESCRIPTION:Join us at the Knottwood Community Centre for our new Zumba Gold class! \nAre you looking for a low-impact fitness class?  Join us for our new Zumba Gold class running from April 24 to June 12. Designed for the active older adult\, the true beginner\, and/or people who are not used to exercising or who may be limited physically\, Zumba Gold is lower intensity\, not as fast\, but certainly just as much fun! \nZUMBA!\nApril 24 to June 12\, 2024 (8 wks)\n10 to 11 am \nKnottwood Community Centre\, 449 Knottwood Rd West\, NW \n\nCost:\nCL Members: $90\nNon-Members: $110 \nDrop-ins available. \nCL Members: $14/class\nNon-Members: $17/class \n\nDon’t miss out on the fun – let’s dance our way to fitness together! Register now and let the Zumba fever take over the Knottwood Community Centre! \nQuestions? Email Sam at info@knottwoodcommunity.ca \n\n\n\n\n\n 
URL:https://knottwoodcommunity.ca/event/zumba-gold-at-knottwood/
LOCATION:Knottwood Community Centre\, 449 Knottwood Rd West\, NW\, Edmonton\, Alberta\, Canada
CATEGORIES:Adult,Community,Senior
ATTACH;FMTTYPE=image/jpeg:https://knottwoodcommunity.ca/wp-content/uploads/2024/03/Zumbagold.jpg
ORGANIZER;CN="Knottwood Community League Info":MAILTO:info@knottwoodcommunity.ca
END:VEVENT
BEGIN:VEVENT
DTSTART;TZID=America/Edmonton:20240425T190000
DTEND;TZID=America/Edmonton:20240425T200000
DTSTAMP:20260420T094433
CREATED:20240410T183309Z
LAST-MODIFIED:20240410T183309Z
UID:10000166-1714071600-1714075200@knottwoodcommunity.ca
SUMMARY:Complete Body Yoga
DESCRIPTION:Complete Body Yoga\nHosted by the Ellerslie\, Knottwood and Horizon Community Leagues \nThursday evenings\, April 25 to June 27\, 2024 (10 weeks)\n7 to 8 pm\nKnottwood Community Centre\, 449 Knottwood Rd West\, NW\, Edmonton \nJoin us for this popular class taught by Navdeep and hosted by the Ellerslie\, Knottwood & Horizon Community Leagues!\n\nSuitable for all bodies and experience levels (including beginners)\, this hatha and vinayasa flow-style yoga class will focus on reducing stress/anxiety\, building body strength\, immunity and flexibility.\n\nBenefits also include improved balance and alignment\, full body stimulation\, weight loss and more.\n\nCost: \nCL members: $50 for 10 wk class ($5/class)\nNon-members: $70 for 10 wk class ($7/class)\nRegister below. \nDrop-in rates: $6 for CL members and $8 for non-members. Cash only – to be paid to the instructor at the beginning of class. \nPLEASE NOTE: All attendees must complete the yoga waiver form here. \nTaught by breathe YOGA and meditation \nQuestions? Email info@knottwoodcommunity.ca
URL:https://knottwoodcommunity.ca/event/complete-body-yoga/
LOCATION:Knottwood Community Centre\, 449 Knottwood Rd West\, NW\, Edmonton\, Alberta\, Canada
CATEGORIES:Adult,Community,Senior
ATTACH;FMTTYPE=image/png:https://knottwoodcommunity.ca/wp-content/uploads/2024/01/Winter-2024-Yoga-Image.png
ORGANIZER;CN="Knottwood Community League (Programs)":MAILTO:programs@knottwoodcommunity.ca
END:VEVENT
BEGIN:VEVENT
DTSTART;TZID=America/Edmonton:20240429T190000
DTEND;TZID=America/Edmonton:20240429T200000
DTSTAMP:20260420T094433
CREATED:20240326T180608Z
LAST-MODIFIED:20240422T185210Z
UID:10000165-1714417200-1714420800@knottwoodcommunity.ca
SUMMARY:ZUMBA! at Knottwood
DESCRIPTION:Spring is here\, and it’s time to get moving! \nFrom April 29 to June 17\, immerse yourself in the rhythm of Latin beats and dynamic dance moves that will not only lift your spirits but also keep you active and healthy. This Zumba class is suitable for all fitness levels. \nZUMBA!\nApril 29 to June 17\, 2024 (8 wks)\n7 to 8 pm\nKnottwood Community Centre\, 449 Knottwood Rd West\, NW \n\nCost:\nCL Members: $90\nNon-Members: $110 \nDrop-ins available. \nCL Members: $14/class\nNon-Members: $17/class \n\nDon’t miss out on the fun – let’s dance our way to fitness together! Register now and let the Zumba fever take over the Knottwood Community Centre! \nQuestions? Email Sam at info@knottwoodcommunity.ca \n\n\n\n\n\n 
URL:https://knottwoodcommunity.ca/event/zumba-at-knottwood/
LOCATION:Knottwood Community Centre\, 449 Knottwood Rd West\, NW\, Edmonton\, Alberta\, Canada
CATEGORIES:Adult,Community,Senior
ATTACH;FMTTYPE=image/png:https://knottwoodcommunity.ca/wp-content/uploads/2024/01/Copy-of-Facebook-Event-Cover-13.png
ORGANIZER;CN="Knottwood Community League Info":MAILTO:info@knottwoodcommunity.ca
END:VEVENT
END:VCALENDAR