BEGIN:VCALENDAR
VERSION:2.0
PRODID:-//Knottwood Community - ECPv6.15.20//NONSGML v1.0//EN
CALSCALE:GREGORIAN
METHOD:PUBLISH
X-ORIGINAL-URL:https://knottwoodcommunity.ca
X-WR-CALDESC:Events for Knottwood Community
REFRESH-INTERVAL;VALUE=DURATION:PT1H
X-Robots-Tag:noindex
X-PUBLISHED-TTL:PT1H
BEGIN:VTIMEZONE
TZID:America/Edmonton
BEGIN:DAYLIGHT
TZOFFSETFROM:-0700
TZOFFSETTO:-0600
TZNAME:MDT
DTSTART:20220313T090000
END:DAYLIGHT
BEGIN:STANDARD
TZOFFSETFROM:-0600
TZOFFSETTO:-0700
TZNAME:MST
DTSTART:20221106T080000
END:STANDARD
BEGIN:DAYLIGHT
TZOFFSETFROM:-0700
TZOFFSETTO:-0600
TZNAME:MDT
DTSTART:20230312T090000
END:DAYLIGHT
BEGIN:STANDARD
TZOFFSETFROM:-0600
TZOFFSETTO:-0700
TZNAME:MST
DTSTART:20231105T080000
END:STANDARD
BEGIN:DAYLIGHT
TZOFFSETFROM:-0700
TZOFFSETTO:-0600
TZNAME:MDT
DTSTART:20240310T090000
END:DAYLIGHT
BEGIN:STANDARD
TZOFFSETFROM:-0600
TZOFFSETTO:-0700
TZNAME:MST
DTSTART:20241103T080000
END:STANDARD
END:VTIMEZONE
BEGIN:VEVENT
DTSTART;TZID=America/Edmonton:20230402T190000
DTEND;TZID=America/Edmonton:20230402T200000
DTSTAMP:20260421T061027
CREATED:20230320T190328Z
LAST-MODIFIED:20230406T053359Z
UID:10000127-1680462000-1680465600@knottwoodcommunity.ca
SUMMARY:Complete Body Yoga Class *NEW
DESCRIPTION:Complete Body Yoga\nHosted by the Ellerslie\, Knottwood and Horizon Community Leagues \nMonday evenings\, April 3 to June 19\, 2023 (10 weeks; no classes April 10 & May 22)\n7 to 8 pm\nKnottwood Community Centre\, 449 Knottwood Rd West\, NW\, Edmonton \nJoin us for this new class hosted by the Ellerslie\, Knottwood & Horizon Community Leagues!\n\nSuitable for all bodies and experience levels (including beginners)\, this high-quality hatha and vinayasa flow-style yoga class will focus on reducing stress/anxiety\, building body strength\, immunity and flexibility.\n\nBenefits also include improved balance and alignment\, full body stimulation\, weight loss and more.\n\nCost: \nCL members: $50 for 10 wk class ($5/class)\nNon-members: $70 for 10 wk class ($7/class)\nRegister below. \nDrop-in rates: $6 for CL members and $8 for non-members. Cash only – to be paid to the instructor at the beginning of class. \nTaught by breathe YOGA and meditation \nQuestions? Email info@knottwoodcommunity.ca
URL:https://knottwoodcommunity.ca/event/completebodyyoga/
LOCATION:Knottwood Community Centre\, 449 Knottwood Rd West\, NW\, Edmonton\, Alberta\, Canada
CATEGORIES:Adult,Community,Senior
ATTACH;FMTTYPE=image/png:https://knottwoodcommunity.ca/wp-content/uploads/2023/03/yoga-2.png
ORGANIZER;CN="Knottwood Community League":MAILTO:programs@knottwoodcommunity.ca
END:VEVENT
BEGIN:VEVENT
DTSTART;TZID=America/Edmonton:20230416T100000
DTEND;TZID=America/Edmonton:20230416T120000
DTSTAMP:20260421T061027
CREATED:20230406T044957Z
LAST-MODIFIED:20230414T210253Z
UID:10000128-1681639200-1681646400@knottwoodcommunity.ca
SUMMARY:Watercolour Painting Class
DESCRIPTION:Join us for this 4-week watercolour painting class with artist Willie Wong.\n\nBring your friends and neighbours and join us for four relaxing Sunday morning painting classes. We will be painting a different (gorgeous) picture each week (see below for images).\n\nDetails:\n\nSunday mornings\nApril 16 to May 7\, 2023\n10 am to 12 pm\nKnottwood Community Centre (449 Knottwood Rd W)\n\nCost for class (plus any applicable supply fee):\n\n$50 per CL member\n$60 per non-CL member\n\nSupplies: You can bring your own supplies or for an additional $20\, we will provide paper and watercolour paints for you to use during the sessions.\n \nCoffee and tea will also be provided — we encourage folks to bring their own mugs\, if possible.\n\nView all four paintings:\n\n\nLearn more about the instructor\, Willie Wong.\n\nQuestions? Email programs@knottwoodcommunity.ca
URL:https://knottwoodcommunity.ca/event/water-colour-painting-class/
LOCATION:Knottwood Community Centre\, 449 Knottwood Rd West\, NW\, Edmonton\, Alberta\, Canada
CATEGORIES:Adult,Community,Senior,Youth
ORGANIZER;CN="Knottwood Community League (Programs)":MAILTO:programs@knottwoodcommunity.ca
END:VEVENT
BEGIN:VEVENT
DTSTART;TZID=America/Edmonton:20230429T130000
DTEND;TZID=America/Edmonton:20230429T130000
DTSTAMP:20260421T061027
CREATED:20230406T225422Z
LAST-MODIFIED:20230422T042157Z
UID:10000129-1682773200-1682773200@knottwoodcommunity.ca
SUMMARY:Self Defense Workshop
DESCRIPTION:Being a victim is a topic that people would like to avoid. Unfortunately\, we live in an increasingly dangerous society where we’re faced with bullying\, assaults\, and other forms of aggression. Learning to defend yourself is an important life skill.\n\nSpend 3 hours with us learning some simple and effective self-defense tactics that one day may be needed to defend yourself or loved ones.\n\nOur aim is to help you build confidence while we teach you effective and efficient techniques and tactics to be able to defend yourself in a range of situations.\nLearn the same techniques and tactics that we have taught to individuals in Law Enforcement\, Security\, and Military.\n\nWe will incorporate weapon defense\, use of surroundings and psychological techniques in our workshop.\n\nSaturday\, April 29\, 2023\n1-4 p.m.\nKnottwood Community Centre\n\n\n$20 for CL members\n$30 for non-CL members\n\n\nAll skill levels are welcome. For ages 10 and up.\n\nRegister below.\n\nCAUTION: This session may contain triggering and/or sensitive material. Violence\, assault and abuse are some of the topics that will be discussed.\n\nQuestions? Email programs@knottwoodcommunity.ca.
URL:https://knottwoodcommunity.ca/event/self-defense-workshop/
LOCATION:Knottwood Community Centre\, 449 Knottwood Rd West\, NW\, Edmonton\, Alberta\, Canada
CATEGORIES:Adult,Senior,Youth
ORGANIZER;CN="Knottwood Community League (Programs)":MAILTO:programs@knottwoodcommunity.ca
END:VEVENT
END:VCALENDAR