BEGIN:VCALENDAR
VERSION:2.0
PRODID:-//Knottwood Community - ECPv6.15.20//NONSGML v1.0//EN
CALSCALE:GREGORIAN
METHOD:PUBLISH
X-WR-CALNAME:Knottwood Community
X-ORIGINAL-URL:https://knottwoodcommunity.ca
X-WR-CALDESC:Events for Knottwood Community
REFRESH-INTERVAL;VALUE=DURATION:PT1H
X-Robots-Tag:noindex
X-PUBLISHED-TTL:PT1H
BEGIN:VTIMEZONE
TZID:America/Edmonton
BEGIN:DAYLIGHT
TZOFFSETFROM:-0700
TZOFFSETTO:-0600
TZNAME:MDT
DTSTART:20210314T090000
END:DAYLIGHT
BEGIN:STANDARD
TZOFFSETFROM:-0600
TZOFFSETTO:-0700
TZNAME:MST
DTSTART:20211107T080000
END:STANDARD
BEGIN:DAYLIGHT
TZOFFSETFROM:-0700
TZOFFSETTO:-0600
TZNAME:MDT
DTSTART:20220313T090000
END:DAYLIGHT
BEGIN:STANDARD
TZOFFSETFROM:-0600
TZOFFSETTO:-0700
TZNAME:MST
DTSTART:20221106T080000
END:STANDARD
BEGIN:DAYLIGHT
TZOFFSETFROM:-0700
TZOFFSETTO:-0600
TZNAME:MDT
DTSTART:20230312T090000
END:DAYLIGHT
BEGIN:STANDARD
TZOFFSETFROM:-0600
TZOFFSETTO:-0700
TZNAME:MST
DTSTART:20231105T080000
END:STANDARD
END:VTIMEZONE
BEGIN:VEVENT
DTSTART;TZID=America/Edmonton:20221210T100000
DTEND;TZID=America/Edmonton:20221210T120000
DTSTAMP:20260423T093359
CREATED:20221130T070635Z
LAST-MODIFIED:20221207T165935Z
UID:10000120-1670666400-1670673600@knottwoodcommunity.ca
SUMMARY:Knottwood Holiday Brunch (KCL Members-only event)
DESCRIPTION:KCL Members\, join us for our first-ever Holiday Brunch in the new Knottwood Community Centre. \nWe will be serving up pancakes\, pork sausages\, scrambled eggs and fruit for folks of all ages! Plus\, SOUNDfonix there will be on-site with their Holiday photo booth and there may even be a visit and photos with Santa! We will also be accepting donations to the Edmonton Food Bank. \nSaturday\, December 10\, 2022\nKnottwood Community Centre\nTickets: $2/ea \nIn order to control line-ups\, there will be two seatings: one at 10 and 10:30 am.  Please purchase your tickets for either Seating #1 or #2 below. \nPlease Note: This event is for Knottwood Community League members only. You can purchase your KCL membership here. \nVolunteers Needed! We desperately need volunteers to help make this event a success. View volunteer positions here. \nQuestions? Email info@knottwoodcommunity.ca.
URL:https://knottwoodcommunity.ca/event/brunch2022/
LOCATION:Knottwood Community Centre\, 449 Knottwood Rd West\, NW\, Edmonton\, Alberta\, Canada
CATEGORIES:Adult,Community,Senior,Youth
ATTACH;FMTTYPE=image/png:https://knottwoodcommunity.ca/wp-content/uploads/2022/11/Brunch-2022-Website-event-image-1200-×-675-px.png
ORGANIZER;CN="Knottwood Community League Info":MAILTO:info@knottwoodcommunity.ca
END:VEVENT
END:VCALENDAR