BEGIN:VCALENDAR
VERSION:2.0
PRODID:-//Knottwood Community - ECPv6.15.20//NONSGML v1.0//EN
CALSCALE:GREGORIAN
METHOD:PUBLISH
X-ORIGINAL-URL:https://knottwoodcommunity.ca
X-WR-CALDESC:Events for Knottwood Community
REFRESH-INTERVAL;VALUE=DURATION:PT1H
X-Robots-Tag:noindex
X-PUBLISHED-TTL:PT1H
BEGIN:VTIMEZONE
TZID:America/Edmonton
BEGIN:DAYLIGHT
TZOFFSETFROM:-0700
TZOFFSETTO:-0600
TZNAME:MDT
DTSTART:20210314T090000
END:DAYLIGHT
BEGIN:STANDARD
TZOFFSETFROM:-0600
TZOFFSETTO:-0700
TZNAME:MST
DTSTART:20211107T080000
END:STANDARD
BEGIN:DAYLIGHT
TZOFFSETFROM:-0700
TZOFFSETTO:-0600
TZNAME:MDT
DTSTART:20220313T090000
END:DAYLIGHT
BEGIN:STANDARD
TZOFFSETFROM:-0600
TZOFFSETTO:-0700
TZNAME:MST
DTSTART:20221106T080000
END:STANDARD
BEGIN:DAYLIGHT
TZOFFSETFROM:-0700
TZOFFSETTO:-0600
TZNAME:MDT
DTSTART:20230312T090000
END:DAYLIGHT
BEGIN:STANDARD
TZOFFSETFROM:-0600
TZOFFSETTO:-0700
TZNAME:MST
DTSTART:20231105T080000
END:STANDARD
END:VTIMEZONE
BEGIN:VEVENT
DTSTART;TZID=America/Edmonton:20221008T100000
DTEND;TZID=America/Edmonton:20221008T120000
DTSTAMP:20260423T142449
CREATED:20220904T203246Z
LAST-MODIFIED:20221006T222113Z
UID:10000041-1665223200-1665230400@knottwoodcommunity.ca
SUMMARY:Forged in Fire Blacksmithing Workshop #1
DESCRIPTION:Have you ever watched Forged in Fire and wanted to try it out? Well now is your chance! \nLearn the basics of blacksmithing while you work on items you take home. All safety gear\, supplies\, tools and equipment supplied. Age 14+. \nMake things such as a BBQ Tool or a Fire Poker. \nBeginner Blacksmithing Workshop #1\nSaturday\, October 8th\nMorning workshop: 10am-12pm \nCost:\n$120 per person (CL members)\n$135 per person (non-members) \nRegister Below \nTaught by an experienced Blacksmith. Fully insured. Spaced are limited so register soon. \nQuestions? Email programs@knottwoodcommunity.ca.
URL:https://knottwoodcommunity.ca/event/forged-in-fire-blacksmithing-workshop-1-3/
LOCATION:Knottwood Community Centre\, 449 Knottwood Rd West\, NW\, Edmonton\, Alberta\, Canada
CATEGORIES:Adult,Senior,Youth
ATTACH;FMTTYPE=image/png:https://knottwoodcommunity.ca/wp-content/uploads/2022/08/4.png
ORGANIZER;CN="Knottwood Community League (Programs)":MAILTO:programs@knottwoodcommunity.ca
END:VEVENT
BEGIN:VEVENT
DTSTART;TZID=America/Edmonton:20221027T100000
DTEND;TZID=America/Edmonton:20221027T113000
DTSTAMP:20260423T142449
CREATED:20220904T201814Z
LAST-MODIFIED:20221021T020758Z
UID:10000118-1666864800-1666870200@knottwoodcommunity.ca
SUMMARY:Drop-In Weekly Coffee Chats for Seniors
DESCRIPTION:Interested in connecting with other seniors\, while enjoying a morning beverage?  \nJoin our weekly coffee chats! This is an informal chance to gather and socialize in the Knottwood Community Centre fireside room. \nTea\, coffee and water will be supplied\, and in order to reduce waste\, KCL suggests that individuals bring a reusable beverage container from home. \nTime: Thursdays: 10 am to 11:30 am. First drop-in will be on October 20. Feel free to drop in anytime for a few minutes or stay the whole time! \nCost: Free\, but if you can afford a donation to cover the cost of the coffee/tea\, that would be appreciated. Suggested donations $2 for members\, $3 for non-members ( cash collected when you stop in). \nQuestions? Email seniors@knottwoodcommunity.ca
URL:https://knottwoodcommunity.ca/event/drop-in-weekly-coffee-chats-for-seniors/
LOCATION:Knottwood Community Centre\, 449 Knottwood Rd West\, NW\, Edmonton\, Alberta\, Canada
CATEGORIES:Senior
ATTACH;FMTTYPE=image/png:https://knottwoodcommunity.ca/wp-content/uploads/2022/09/Seniors-and-coffee.png
ORGANIZER;CN="Knottwood Community League (Seniors)":MAILTO:seniors@knottwoodcommunity.ca
END:VEVENT
END:VCALENDAR