BEGIN:VCALENDAR
VERSION:2.0
PRODID:-//Knottwood Community - ECPv6.15.20//NONSGML v1.0//EN
CALSCALE:GREGORIAN
METHOD:PUBLISH
X-WR-CALNAME:Knottwood Community
X-ORIGINAL-URL:https://knottwoodcommunity.ca
X-WR-CALDESC:Events for Knottwood Community
REFRESH-INTERVAL;VALUE=DURATION:PT1H
X-Robots-Tag:noindex
X-PUBLISHED-TTL:PT1H
BEGIN:VTIMEZONE
TZID:America/Edmonton
BEGIN:DAYLIGHT
TZOFFSETFROM:-0700
TZOFFSETTO:-0600
TZNAME:MDT
DTSTART:20210314T090000
END:DAYLIGHT
BEGIN:STANDARD
TZOFFSETFROM:-0600
TZOFFSETTO:-0700
TZNAME:MST
DTSTART:20211107T080000
END:STANDARD
BEGIN:DAYLIGHT
TZOFFSETFROM:-0700
TZOFFSETTO:-0600
TZNAME:MDT
DTSTART:20220313T090000
END:DAYLIGHT
BEGIN:STANDARD
TZOFFSETFROM:-0600
TZOFFSETTO:-0700
TZNAME:MST
DTSTART:20221106T080000
END:STANDARD
BEGIN:DAYLIGHT
TZOFFSETFROM:-0700
TZOFFSETTO:-0600
TZNAME:MDT
DTSTART:20230312T090000
END:DAYLIGHT
BEGIN:STANDARD
TZOFFSETFROM:-0600
TZOFFSETTO:-0700
TZNAME:MST
DTSTART:20231105T080000
END:STANDARD
END:VTIMEZONE
BEGIN:VEVENT
DTSTART;VALUE=DATE:20220531
DTEND;VALUE=DATE:20220601
DTSTAMP:20260424T085658
CREATED:20220120T060604Z
LAST-MODIFIED:20211020T162214Z
UID:10000111-1653955200-1654041599@knottwoodcommunity.ca
SUMMARY:Make a Donation to the Knottwood Community Centre
DESCRIPTION:
URL:https://knottwoodcommunity.ca/event/make-a-donation-to-the-knottwood-community-centre/
ATTACH;FMTTYPE=image/jpeg:https://knottwoodcommunity.ca/wp-content/uploads/2021/10/Interior-Hall-new-Knottwood-Community-Centre.jpg
ORGANIZER;CN="Knottwood Community League Fundraising":MAILTO:vp2@knottwoodcommunity.ca
END:VEVENT
END:VCALENDAR