BEGIN:VCALENDAR
VERSION:2.0
PRODID:-//Knottwood Community - ECPv6.15.20//NONSGML v1.0//EN
CALSCALE:GREGORIAN
METHOD:PUBLISH
X-ORIGINAL-URL:https://knottwoodcommunity.ca
X-WR-CALDESC:Events for Knottwood Community
REFRESH-INTERVAL;VALUE=DURATION:PT1H
X-Robots-Tag:noindex
X-PUBLISHED-TTL:PT1H
BEGIN:VTIMEZONE
TZID:America/Edmonton
BEGIN:DAYLIGHT
TZOFFSETFROM:-0700
TZOFFSETTO:-0600
TZNAME:MDT
DTSTART:20230312T090000
END:DAYLIGHT
BEGIN:STANDARD
TZOFFSETFROM:-0600
TZOFFSETTO:-0700
TZNAME:MST
DTSTART:20231105T080000
END:STANDARD
BEGIN:DAYLIGHT
TZOFFSETFROM:-0700
TZOFFSETTO:-0600
TZNAME:MDT
DTSTART:20240310T090000
END:DAYLIGHT
BEGIN:STANDARD
TZOFFSETFROM:-0600
TZOFFSETTO:-0700
TZNAME:MST
DTSTART:20241103T080000
END:STANDARD
BEGIN:DAYLIGHT
TZOFFSETFROM:-0700
TZOFFSETTO:-0600
TZNAME:MDT
DTSTART:20250309T090000
END:DAYLIGHT
BEGIN:STANDARD
TZOFFSETFROM:-0600
TZOFFSETTO:-0700
TZNAME:MST
DTSTART:20251102T080000
END:STANDARD
END:VTIMEZONE
BEGIN:VEVENT
DTSTART;TZID=America/Edmonton:20240424T100000
DTEND;TZID=America/Edmonton:20240424T110000
DTSTAMP:20260420T003152
CREATED:20240326T170140Z
LAST-MODIFIED:20240326T184339Z
UID:10000164-1713952800-1713956400@knottwoodcommunity.ca
SUMMARY:ZUMBA GOLD! at Knottwood
DESCRIPTION:Join us at the Knottwood Community Centre for our new Zumba Gold class! \nAre you looking for a low-impact fitness class?  Join us for our new Zumba Gold class running from April 24 to June 12. Designed for the active older adult\, the true beginner\, and/or people who are not used to exercising or who may be limited physically\, Zumba Gold is lower intensity\, not as fast\, but certainly just as much fun! \nZUMBA!\nApril 24 to June 12\, 2024 (8 wks)\n10 to 11 am \nKnottwood Community Centre\, 449 Knottwood Rd West\, NW \n\nCost:\nCL Members: $90\nNon-Members: $110 \nDrop-ins available. \nCL Members: $14/class\nNon-Members: $17/class \n\nDon’t miss out on the fun – let’s dance our way to fitness together! Register now and let the Zumba fever take over the Knottwood Community Centre! \nQuestions? Email Sam at info@knottwoodcommunity.ca \n\n\n\n\n\n 
URL:https://knottwoodcommunity.ca/event/zumba-gold-at-knottwood/
LOCATION:Knottwood Community Centre\, 449 Knottwood Rd West\, NW\, Edmonton\, Alberta\, Canada
CATEGORIES:Adult,Community,Senior
ATTACH;FMTTYPE=image/jpeg:https://knottwoodcommunity.ca/wp-content/uploads/2024/03/Zumbagold.jpg
ORGANIZER;CN="Knottwood Community League Info":MAILTO:info@knottwoodcommunity.ca
END:VEVENT
END:VCALENDAR