BEGIN:VCALENDAR
VERSION:2.0
PRODID:-//Knottwood Community - ECPv6.15.20//NONSGML v1.0//EN
CALSCALE:GREGORIAN
METHOD:PUBLISH
X-ORIGINAL-URL:https://knottwoodcommunity.ca
X-WR-CALDESC:Events for Knottwood Community
REFRESH-INTERVAL;VALUE=DURATION:PT1H
X-Robots-Tag:noindex
X-PUBLISHED-TTL:PT1H
BEGIN:VTIMEZONE
TZID:America/Edmonton
BEGIN:DAYLIGHT
TZOFFSETFROM:-0700
TZOFFSETTO:-0600
TZNAME:MDT
DTSTART:20220313T090000
END:DAYLIGHT
BEGIN:STANDARD
TZOFFSETFROM:-0600
TZOFFSETTO:-0700
TZNAME:MST
DTSTART:20221106T080000
END:STANDARD
BEGIN:DAYLIGHT
TZOFFSETFROM:-0700
TZOFFSETTO:-0600
TZNAME:MDT
DTSTART:20230312T090000
END:DAYLIGHT
BEGIN:STANDARD
TZOFFSETFROM:-0600
TZOFFSETTO:-0700
TZNAME:MST
DTSTART:20231105T080000
END:STANDARD
BEGIN:DAYLIGHT
TZOFFSETFROM:-0700
TZOFFSETTO:-0600
TZNAME:MDT
DTSTART:20240310T090000
END:DAYLIGHT
BEGIN:STANDARD
TZOFFSETFROM:-0600
TZOFFSETTO:-0700
TZNAME:MST
DTSTART:20241103T080000
END:STANDARD
END:VTIMEZONE
BEGIN:VEVENT
DTSTART;TZID=America/Edmonton:20230429T130000
DTEND;TZID=America/Edmonton:20230429T130000
DTSTAMP:20260421T112208
CREATED:20230406T225422Z
LAST-MODIFIED:20230422T042157Z
UID:10000129-1682773200-1682773200@knottwoodcommunity.ca
SUMMARY:Self Defense Workshop
DESCRIPTION:Being a victim is a topic that people would like to avoid. Unfortunately\, we live in an increasingly dangerous society where we’re faced with bullying\, assaults\, and other forms of aggression. Learning to defend yourself is an important life skill.\n\nSpend 3 hours with us learning some simple and effective self-defense tactics that one day may be needed to defend yourself or loved ones.\n\nOur aim is to help you build confidence while we teach you effective and efficient techniques and tactics to be able to defend yourself in a range of situations.\nLearn the same techniques and tactics that we have taught to individuals in Law Enforcement\, Security\, and Military.\n\nWe will incorporate weapon defense\, use of surroundings and psychological techniques in our workshop.\n\nSaturday\, April 29\, 2023\n1-4 p.m.\nKnottwood Community Centre\n\n\n$20 for CL members\n$30 for non-CL members\n\n\nAll skill levels are welcome. For ages 10 and up.\n\nRegister below.\n\nCAUTION: This session may contain triggering and/or sensitive material. Violence\, assault and abuse are some of the topics that will be discussed.\n\nQuestions? Email programs@knottwoodcommunity.ca.
URL:https://knottwoodcommunity.ca/event/self-defense-workshop/
LOCATION:Knottwood Community Centre\, 449 Knottwood Rd West\, NW\, Edmonton\, Alberta\, Canada
CATEGORIES:Adult,Senior,Youth
ORGANIZER;CN="Knottwood Community League (Programs)":MAILTO:programs@knottwoodcommunity.ca
END:VEVENT
END:VCALENDAR