BEGIN:VCALENDAR
VERSION:2.0
PRODID:-//Knottwood Community - ECPv6.15.20//NONSGML v1.0//EN
CALSCALE:GREGORIAN
METHOD:PUBLISH
X-WR-CALNAME:Knottwood Community
X-ORIGINAL-URL:https://knottwoodcommunity.ca
X-WR-CALDESC:Events for Knottwood Community
REFRESH-INTERVAL;VALUE=DURATION:PT1H
X-Robots-Tag:noindex
X-PUBLISHED-TTL:PT1H
BEGIN:VTIMEZONE
TZID:America/Edmonton
BEGIN:DAYLIGHT
TZOFFSETFROM:-0700
TZOFFSETTO:-0600
TZNAME:MDT
DTSTART:20220313T090000
END:DAYLIGHT
BEGIN:STANDARD
TZOFFSETFROM:-0600
TZOFFSETTO:-0700
TZNAME:MST
DTSTART:20221106T080000
END:STANDARD
BEGIN:DAYLIGHT
TZOFFSETFROM:-0700
TZOFFSETTO:-0600
TZNAME:MDT
DTSTART:20230312T090000
END:DAYLIGHT
BEGIN:STANDARD
TZOFFSETFROM:-0600
TZOFFSETTO:-0700
TZNAME:MST
DTSTART:20231105T080000
END:STANDARD
BEGIN:DAYLIGHT
TZOFFSETFROM:-0700
TZOFFSETTO:-0600
TZNAME:MDT
DTSTART:20240310T090000
END:DAYLIGHT
BEGIN:STANDARD
TZOFFSETFROM:-0600
TZOFFSETTO:-0700
TZNAME:MST
DTSTART:20241103T080000
END:STANDARD
END:VTIMEZONE
BEGIN:VEVENT
DTSTART;TZID=America/Edmonton:20230111T100000
DTEND;TZID=America/Edmonton:20230111T110000
DTSTAMP:20260423T093344
CREATED:20221202T221619Z
LAST-MODIFIED:20221230T220049Z
UID:10000122-1673431200-1673434800@knottwoodcommunity.ca
SUMMARY:Steady Flow Yoga
DESCRIPTION:10 – 11am  “Steady Flow” – All Ages*\, Levels* and Mobility*. *For Low Mobility \nBreathe a little deeper as you take it easy in the AM\, giving your body a chance to stretch away the sleep from the night before. In this offering we will reach\, twist and fold the tension away with gentle sequencing and short pauses to spend time exploring each shape. This is a great offering for those who aren’t in a rush first thing\, or are looking for a moment of zen once the chaos of the morning has passed.  \nSequences/Postures to Expect: Sun Salutations\, Side bends\, Spinal Twists\, Folds and gentle backbends\, Minimal time in standing postures\, transitions from seating on ground/chair to standing and back down\, from back to belly and to kneeling/table top.  \nJanuary 11 to February 15 (6 classes)\n10 to 11 am\nKnottwood Community Centre \nKnottwood Community League Members fees per class are $36 ($6/class)\nNon-members per class are $66 ($11/class)\nRegister Below. \n  \n\nAbout the Class \nFor all classes: I invite you to find comfort in your physical body and peace in your mind\, as you take this time to reconnect with yourself. Listen to the signals the body is sending you with every breath and each movement\, allowing your body to guide you throughout the practice. If you find a posture doesn’t quite feel right\, you may leave the posture at any time for a more comfortable one or start your Savasana a little early. It’s your practice\, you do what you want to!   \nAll postures will be approached in a “building block” fashion\, establishing a solid foundation before adding more to the pose. This presents the opportunity to customize your practice to your body’s individual needs\, pausing wherever you feel most comfortable in the posture. Modifications will be offered as well! If you’re finding a pose to be ‘tricky’ or uncomfortable\, let us know and we will take the time to find a version of that posture that works for you!  \nProps are not required for class offerings unless specified\, however if you use them with your regular practice I encourage you to bring them along! I have a small selection of props available on a first come basis if you’d like to try them out in a class before purchasing!  \n\nAbout the Instructor \nNamaste\, my name is Patrisha and I’m honored to meet you!  \nYoga has been a pivotal part of my life for 10 years\, from healing sport injuries and maintaining stress to encouraging mindfulness and compassion for others in my everyday life. I was first introduced to the practice as a tool to rehab an injury sustained from falling from a horse\, slowly rebuilding the strength in my arm one Down Dog at a time. Before long I was hooked on the benefits my body was feeling\, and wanted to learn more. I continue to be a student of the practice as there is always something new to learn!   \nI started Missfit of Yoga 2 years ago with the vision of bringing yoga to people of all ages\, cultural backgrounds\, ranges of mobility and levels of experience\, honoring the mantra “Yoga is for every body!” I like to encourage a spirit of playfulness and a dose of inspiration to help you deepen your practice. It is my intention to safely guide you through each of the movements throughout class\, applying ancient wisdom to our contemporary western world in a useful\, fun\, and understandable way. I seek to help others thrive in life by nurturing body\, mind and soul with yoga\, and my hope is that you step off the mat feeling refreshed with a spring in your step \nKeep Shining Brightly\, \n– Patrisha Kavanagh Cline \n 
URL:https://knottwoodcommunity.ca/event/steady-flow-yoga-2-2/
LOCATION:Knottwood Community Centre\, 449 Knottwood Rd West\, NW\, Edmonton\, Alberta\, Canada
CATEGORIES:Adult,Senior
ATTACH;FMTTYPE=image/png:https://knottwoodcommunity.ca/wp-content/uploads/2022/08/1.png
ORGANIZER;CN="Knottwood Community League (Programs)":MAILTO:programs@knottwoodcommunity.ca
END:VEVENT
END:VCALENDAR