BEGIN:VCALENDAR
VERSION:2.0
PRODID:-//Knottwood Community - ECPv6.15.20//NONSGML v1.0//EN
CALSCALE:GREGORIAN
METHOD:PUBLISH
X-WR-CALNAME:Knottwood Community
X-ORIGINAL-URL:https://knottwoodcommunity.ca
X-WR-CALDESC:Events for Knottwood Community
REFRESH-INTERVAL;VALUE=DURATION:PT1H
X-Robots-Tag:noindex
X-PUBLISHED-TTL:PT1H
BEGIN:VTIMEZONE
TZID:America/Edmonton
BEGIN:DAYLIGHT
TZOFFSETFROM:-0700
TZOFFSETTO:-0600
TZNAME:MDT
DTSTART:20210314T090000
END:DAYLIGHT
BEGIN:STANDARD
TZOFFSETFROM:-0600
TZOFFSETTO:-0700
TZNAME:MST
DTSTART:20211107T080000
END:STANDARD
BEGIN:DAYLIGHT
TZOFFSETFROM:-0700
TZOFFSETTO:-0600
TZNAME:MDT
DTSTART:20220313T090000
END:DAYLIGHT
BEGIN:STANDARD
TZOFFSETFROM:-0600
TZOFFSETTO:-0700
TZNAME:MST
DTSTART:20221106T080000
END:STANDARD
BEGIN:DAYLIGHT
TZOFFSETFROM:-0700
TZOFFSETTO:-0600
TZNAME:MDT
DTSTART:20230312T090000
END:DAYLIGHT
BEGIN:STANDARD
TZOFFSETFROM:-0600
TZOFFSETTO:-0700
TZNAME:MST
DTSTART:20231105T080000
END:STANDARD
END:VTIMEZONE
BEGIN:VEVENT
DTSTART;TZID=America/Edmonton:20221126T100000
DTEND;TZID=America/Edmonton:20221126T160000
DTSTAMP:20260423T125141
CREATED:20220904T205110Z
LAST-MODIFIED:20221119T155705Z
UID:10000043-1669456800-1669478400@knottwoodcommunity.ca
SUMMARY:Holiday Craft Fair 2022
DESCRIPTION:Join us for our first-ever Holiday Craft Fair! \nWe will have 32 local crafters and artisans selling a huge variety of handmade goods. Just in time for the holidays! There will also be door prizes and lots of free parking. \nWhere: Knottwood Community Centre\, 449 Knottwood Rd West\, NW\nWhen: Saturday\, November 26\, 2022\nTime: 10 AM – 4 PM\nCost: FREE; accepting non-perishable food items for the food bank. \nRSVP below to receive extra door-prize ballots for each shopper (not mandatory). \nPlease note: This will be a mostly cash-only event. \nVolunteers Needed! Would you like to volunteer for this event? Learn more about available positions here: https://signup.com/go/AOfcRRq \nQuestions? Email info@knottwoodcommunity.ca. \nRSVP HERE
URL:https://knottwoodcommunity.ca/event/kclcraftfair22/
LOCATION:Knottwood Community Centre\, 449 Knottwood Rd West\, NW\, Edmonton\, Alberta\, Canada
CATEGORIES:Adult,Community,Senior,Youth
ATTACH;FMTTYPE=image/jpeg:https://knottwoodcommunity.ca/wp-content/uploads/2022/09/Holiday-Craft-Fair-1-1.jpg
ORGANIZER;CN="Knottwood Community League (comms)":MAILTO:communications@knottwoodcommunity.ca
END:VEVENT
END:VCALENDAR