BEGIN:VCALENDAR
VERSION:2.0
PRODID:-//Knottwood Community - ECPv6.15.20//NONSGML v1.0//EN
CALSCALE:GREGORIAN
METHOD:PUBLISH
X-ORIGINAL-URL:https://knottwoodcommunity.ca
X-WR-CALDESC:Events for Knottwood Community
REFRESH-INTERVAL;VALUE=DURATION:PT1H
X-Robots-Tag:noindex
X-PUBLISHED-TTL:PT1H
BEGIN:VTIMEZONE
TZID:America/Edmonton
BEGIN:DAYLIGHT
TZOFFSETFROM:-0700
TZOFFSETTO:-0600
TZNAME:MDT
DTSTART:20210314T090000
END:DAYLIGHT
BEGIN:STANDARD
TZOFFSETFROM:-0600
TZOFFSETTO:-0700
TZNAME:MST
DTSTART:20211107T080000
END:STANDARD
BEGIN:DAYLIGHT
TZOFFSETFROM:-0700
TZOFFSETTO:-0600
TZNAME:MDT
DTSTART:20220313T090000
END:DAYLIGHT
BEGIN:STANDARD
TZOFFSETFROM:-0600
TZOFFSETTO:-0700
TZNAME:MST
DTSTART:20221106T080000
END:STANDARD
BEGIN:DAYLIGHT
TZOFFSETFROM:-0700
TZOFFSETTO:-0600
TZNAME:MDT
DTSTART:20230312T090000
END:DAYLIGHT
BEGIN:STANDARD
TZOFFSETFROM:-0600
TZOFFSETTO:-0700
TZNAME:MST
DTSTART:20231105T080000
END:STANDARD
END:VTIMEZONE
BEGIN:VEVENT
DTSTART;TZID=America/Edmonton:20221116T184500
DTEND;TZID=America/Edmonton:20221116T200000
DTSTAMP:20260423T125245
CREATED:20221030T160652Z
LAST-MODIFIED:20221031T030110Z
UID:10000049-1668624300-1668628800@knottwoodcommunity.ca
SUMMARY:Annual General Meeting 2022
DESCRIPTION:Join us on Wednesday\, November 16\, 2022\, for our AGM. \nWe will be voting in our 2022-23 Board of Directors and you will have the chance to learn about other opportunities that are available for getting involved with your community. \nSCHEDULE OF EVENTS:\n6:45 pm – Mixer – Meet the Board\, view the new Centre and share some snacks\n7:00 pm Welcome\n7:05 pm Review of the Agenda\n7:10 pm Approval of November 2020 AGM Minutes\n7:15 pm President’s Report\n7:25 pm Treasurer’s Report\n7:430pm Elections\n8:00 pm Adjournment \nBOARD POSITIONS UP FOR ELECTION: \nPresident\n1st Vice President\n2nd Vice President\nSecretary/Treasurer\nPrograms Director\nCommunications Director\nBuilding and Grounds Director\nSocial and Events Director\nGaming Director\nEvents Director\nMembership Director \nVACANT BOARD POSITIONS \n\nCommunications Director – are you great at writing or designing things in InDesign or Canva? Do you love getting the word out? Are you social media savvy? This position helps with design\, communications\, and our newsletters. This position works closely with VP2 all things comms.\nVolunteer Director – help recruit and manage the league’s volunteers.\nBuildings & Grounds Director – Overseeing operations of the Ekota Rink and other Knottwood facilities\nCommunity Meal Kitchen Lead – we will be hosting more community meals in our new Centre. We need someone to organize the kitchen-end of community meals\, from food purchasing to wrangling and managing volunteer cooks\, etc.\nNewsletter Coordinator – do you love designing in Canva? We need someone to help design and mail out a quarterly physical newsletter to members. This position will work closely with the Communications Director and VP2.\nSatoo Rep / Ekota Rep / Menisa Rep – If you are looking for a smaller commitment\, one of the rep positions may be for you. The community reps report to the Board on issues happening in each area\, what’s happening in the schools\, etc and helps to get the word out to neighbours about upcoming events.\n\nOTHER VOLUNTEER OPPORTUNITIES: photographers\, videographers\, event volunteers\, administrative help\, volunteer cooks and food preppers for community meals\, neighbourhood connectors\, running individual programs and more. \nREGISTRATION IS REQUIRED TO ATTEND. You will also need a Knottwood Community League membership to attend and vote. \nVIEW BYLAWS HERE \nPURCHASE YOUR MEMBERSHIP HERE \nREGISTER HERE:Register for AGM Here
URL:https://knottwoodcommunity.ca/event/agm2022/
LOCATION:Knottwood Community Centre\, 449 Knottwood Rd West\, NW\, Edmonton\, Alberta\, Canada
CATEGORIES:Community
ORGANIZER;CN="Knottwood Community League":MAILTO:programs@knottwoodcommunity.ca
END:VEVENT
END:VCALENDAR