BEGIN:VCALENDAR
VERSION:2.0
PRODID:-//Knottwood Community - ECPv6.15.20//NONSGML v1.0//EN
CALSCALE:GREGORIAN
METHOD:PUBLISH
X-ORIGINAL-URL:https://knottwoodcommunity.ca
X-WR-CALDESC:Events for Knottwood Community
REFRESH-INTERVAL;VALUE=DURATION:PT1H
X-Robots-Tag:noindex
X-PUBLISHED-TTL:PT1H
BEGIN:VTIMEZONE
TZID:America/Edmonton
BEGIN:DAYLIGHT
TZOFFSETFROM:-0700
TZOFFSETTO:-0600
TZNAME:MDT
DTSTART:20210314T090000
END:DAYLIGHT
BEGIN:STANDARD
TZOFFSETFROM:-0600
TZOFFSETTO:-0700
TZNAME:MST
DTSTART:20211107T080000
END:STANDARD
BEGIN:DAYLIGHT
TZOFFSETFROM:-0700
TZOFFSETTO:-0600
TZNAME:MDT
DTSTART:20220313T090000
END:DAYLIGHT
BEGIN:STANDARD
TZOFFSETFROM:-0600
TZOFFSETTO:-0700
TZNAME:MST
DTSTART:20221106T080000
END:STANDARD
BEGIN:DAYLIGHT
TZOFFSETFROM:-0700
TZOFFSETTO:-0600
TZNAME:MDT
DTSTART:20230312T090000
END:DAYLIGHT
BEGIN:STANDARD
TZOFFSETFROM:-0600
TZOFFSETTO:-0700
TZNAME:MST
DTSTART:20231105T080000
END:STANDARD
END:VTIMEZONE
BEGIN:VEVENT
DTSTART;TZID=America/Edmonton:20221107T183000
DTEND;TZID=America/Edmonton:20221107T193000
DTSTAMP:20260423T125310
CREATED:20221102T183227Z
LAST-MODIFIED:20221102T184555Z
UID:10000053-1667845800-1667849400@knottwoodcommunity.ca
SUMMARY:Let's Flow Yoga
DESCRIPTION:6:30 to 7:30 p.m. “Let’s Flow” – All ages*\, Levels* and Mobility*. *Modifications included. \nMindfully move through each shape\, focusing the mind with balances as we transform the physical body through gentle flowing sequences. Movements that inspire us to explore all the spaces in our body\, mind and soul\, while being mindful to find a rhythm true to yourself and to move with kindness for the body you’ve arrived with. This is our most varied offering – allowing you to choose if you want a slower flow or if you want to flow freely\, you decide which works for you!  \nSequences/Postures to Expect: Warrior 1 -> Warrior 2 -> Extended Side Angle\, Table -> Wide Lunge -> Gate Pose\, some Balances\, and Sun Salutations. A mix of low and high energy flows\, as well as plenty of transitions (Seat to Stand\, Stand to back\, Belly to Table\, etc) for you to experiment with. \nNovember 7 to December 12th (6 classes)\n6:30 to 7:30 p.m. \nKnottwood Community League Members fees per class are $36 ($6/class)\nNon-members per class are $66 ($11/class)\nRegister Below. \nAbout the Class \nFor all classes: I invite you to find comfort in your physical body and peace in your mind\, as you take this time to reconnect with yourself. Listen to the signals the body is sending you with every breath and each movement\, allowing your body to guide you throughout the practice. If you find a posture doesn’t quite feel right\, you may leave the posture at any time for a more comfortable one or start your Savasana a little early. It’s your practice\, you do what you want to! \nAll postures will be approached in a “building block” fashion\, establishing a solid foundation before adding more to the pose. This presents the opportunity to customize your practice to your body’s individual needs\, pausing wherever you feel most comfortable in the posture. Modifications will be offered as well! If you’re finding a pose to be ‘tricky’ or uncomfortable\, let us know and we will take the time to find a version of that posture that works for you! \nProps are not required for class offerings unless specified\, however if you use them with your regular practice I encourage you to bring them along! I have a small selection of props available on a first come basis if you’d like to try them out in a class before purchasing. \nAbout the Instructor \nNamaste\, my name is Patrisha and I’m honored to meet you! \nYoga has been a pivotal part of my life for 10 years\, from healing sport injuries and maintaining stress to encouraging mindfulness and compassion for others in my everyday life. I was first introduced to the practice as a tool to rehab an injury sustained from falling from a horse\, slowly rebuilding the strength in my arm one Down Dog at a time. Before long I was hooked on the benefits my body was feeling\, and wanted to learn more. I continue to be a student of the practice as there is always something new to learn! \nI started Missfit of Yoga 2 years ago with the vision of bringing yoga to people of all ages\, cultural backgrounds\, ranges of mobility and levels of experience\, honoring the mantra “Yoga is for every body!” I like to encourage a spirit of playfulness and a dose of inspiration to help you deepen your practice. It is my intention to safely guide you through each of the movements throughout class\, applying ancient wisdom to our contemporary western world in a useful\, fun\, and understandable way. I seek to help others thrive in life by nurturing body\, mind and soul with yoga\, and my hope is that you step off the mat feeling refreshed with a spring in your step \nKeep Shining Brightly\, \n– Patrisha Kavanagh Cline
URL:https://knottwoodcommunity.ca/event/letsflowyoga-2/
LOCATION:Knottwood Community Centre\, 449 Knottwood Rd West\, NW\, Edmonton\, Alberta\, Canada
CATEGORIES:Adult,Community,Senior,Youth
ATTACH;FMTTYPE=image/png:https://knottwoodcommunity.ca/wp-content/uploads/2022/08/3.png
ORGANIZER;CN="Knottwood Community League (Programs)":MAILTO:programs@knottwoodcommunity.ca
END:VEVENT
END:VCALENDAR