BEGIN:VCALENDAR
VERSION:2.0
PRODID:-//Knottwood Community - ECPv6.15.20//NONSGML v1.0//EN
CALSCALE:GREGORIAN
METHOD:PUBLISH
X-ORIGINAL-URL:https://knottwoodcommunity.ca
X-WR-CALDESC:Events for Knottwood Community
REFRESH-INTERVAL;VALUE=DURATION:PT1H
X-Robots-Tag:noindex
X-PUBLISHED-TTL:PT1H
BEGIN:VTIMEZONE
TZID:America/Edmonton
BEGIN:DAYLIGHT
TZOFFSETFROM:-0700
TZOFFSETTO:-0600
TZNAME:MDT
DTSTART:20210314T090000
END:DAYLIGHT
BEGIN:STANDARD
TZOFFSETFROM:-0600
TZOFFSETTO:-0700
TZNAME:MST
DTSTART:20211107T080000
END:STANDARD
BEGIN:DAYLIGHT
TZOFFSETFROM:-0700
TZOFFSETTO:-0600
TZNAME:MDT
DTSTART:20220313T090000
END:DAYLIGHT
BEGIN:STANDARD
TZOFFSETFROM:-0600
TZOFFSETTO:-0700
TZNAME:MST
DTSTART:20221106T080000
END:STANDARD
BEGIN:DAYLIGHT
TZOFFSETFROM:-0700
TZOFFSETTO:-0600
TZNAME:MDT
DTSTART:20230312T090000
END:DAYLIGHT
BEGIN:STANDARD
TZOFFSETFROM:-0600
TZOFFSETTO:-0700
TZNAME:MST
DTSTART:20231105T080000
END:STANDARD
END:VTIMEZONE
BEGIN:VEVENT
DTSTART;TZID=America/Edmonton:20221105T190000
DTEND;TZID=America/Edmonton:20221105T230000
DTSTAMP:20260423T125235
CREATED:20221007T052041Z
LAST-MODIFIED:20221105T195531Z
UID:10000047-1667674800-1667689200@knottwoodcommunity.ca
SUMMARY:Craft Beer Night: ticket sales now CLOSED
DESCRIPTION:***UPDATE: Tickets are sold out and will not be available for purchase at the door. We hope to do more of these types of events in the future — so we hope to see you at the next one! \n————————————————- \n  \nJoin us for a fun evening of craft beer tasting\, pizza\, and live music! Featuring a selection of craft beers from Town Square Brewing and live music by Super 92 and special guests\, The Cabbies. \nThe Super 92 – Roots and Roll Music \nCraft Beer Night\nSaturday\, November 5\, 2022\n7:00 PM – 11:00 PM\nKnottwood Community Centre\n449 Knottwood Rd W\, NW \nTicket Price \n$20 per person for community league members\n$25 per person for non-members \nIncluded in your ticket price \n\n4 sample beer tickets\n2 slices of pizza\nA beer mug cookie from Sweet Stuff Cakes\n\nLive music and entertainment by Super 92 will start at 7:45 pm \nAdditional pizza and beer will be available for purchase on-site\, as well as pop and water. (CASH ONLY) \nThis is an 18+ event. Tickets to this event are pre-sale only. Tickets WILL NOT be sold at the door. \nDeadline to buy tickets: Wednesday\, November 2. Available below. \nVolunteers Needed! Sign up here\nFor your generous volunteer service\, you will receive 2 slices of pizza\, pop or water\, and a cookie. \nQuestions? Emails social@knottwoodcommunity.ca. \n 
URL:https://knottwoodcommunity.ca/event/craftbeernight/
LOCATION:Knottwood Community Centre\, 449 Knottwood Rd West\, NW\, Edmonton\, Alberta\, Canada
CATEGORIES:Adult,Senior
ATTACH;FMTTYPE=image/jpeg:https://knottwoodcommunity.ca/wp-content/uploads/2022/10/KCL-Craft-Beer-Social2240-scaled.jpg
ORGANIZER;CN="Knottwood Community League (social)":MAILTO:social@knottwoodcommunity.ca
END:VEVENT
END:VCALENDAR