BEGIN:VCALENDAR
VERSION:2.0
PRODID:-//Knottwood Community - ECPv6.15.20//NONSGML v1.0//EN
CALSCALE:GREGORIAN
METHOD:PUBLISH
X-WR-CALNAME:Knottwood Community
X-ORIGINAL-URL:https://knottwoodcommunity.ca
X-WR-CALDESC:Events for Knottwood Community
REFRESH-INTERVAL;VALUE=DURATION:PT1H
X-Robots-Tag:noindex
X-PUBLISHED-TTL:PT1H
BEGIN:VTIMEZONE
TZID:America/Edmonton
BEGIN:DAYLIGHT
TZOFFSETFROM:-0700
TZOFFSETTO:-0600
TZNAME:MDT
DTSTART:20210314T090000
END:DAYLIGHT
BEGIN:STANDARD
TZOFFSETFROM:-0600
TZOFFSETTO:-0700
TZNAME:MST
DTSTART:20211107T080000
END:STANDARD
BEGIN:DAYLIGHT
TZOFFSETFROM:-0700
TZOFFSETTO:-0600
TZNAME:MDT
DTSTART:20220313T090000
END:DAYLIGHT
BEGIN:STANDARD
TZOFFSETFROM:-0600
TZOFFSETTO:-0700
TZNAME:MST
DTSTART:20221106T080000
END:STANDARD
BEGIN:DAYLIGHT
TZOFFSETFROM:-0700
TZOFFSETTO:-0600
TZNAME:MDT
DTSTART:20230312T090000
END:DAYLIGHT
BEGIN:STANDARD
TZOFFSETFROM:-0600
TZOFFSETTO:-0700
TZNAME:MST
DTSTART:20231105T080000
END:STANDARD
END:VTIMEZONE
BEGIN:VEVENT
DTSTART;TZID=America/Edmonton:20220917T130000
DTEND;TZID=America/Edmonton:20220917T160000
DTSTAMP:20260423T172721
CREATED:20220831T050504Z
LAST-MODIFIED:20220908T191316Z
UID:10000114-1663419600-1663430400@knottwoodcommunity.ca
SUMMARY:Knottwood Community Centre Grand Opening & Ribbon Cutting Ceremony
DESCRIPTION:Join us\, the Edmonton International Street Performers Festival\, and a variety of special guests\, as we officially open our new Knottwood Community Centre and celebrate our 45th birthday on Community League Day. \nConstruction is now complete on our new Centre and it’s time to fling open the doors and party! \nSCHEDULE OF EVENTS: \n(Pre-event) Noon to 12:30 pm – Edmonton International Street Performers’ Parade – join in the back of the parade!\n1 to 1:30 pm – Ribbon Cutting Ceremony in front of the hall with elected officials\, elder Gilman Cardinal and special guests.\n1:30 to 4 pm – Grand Opening Celebrations \n– Tour the new Centre\n– Take part in our own Street Performers Festival in Knottwood with mini variety shows and roving characters\, including stilt walkers\, The Brasstastics band\, magicians\, clowns\, circus dogs and more. Shows at 2:00\, 2:50 and 3:30 pm.\n– Woodshed Burgers will be on site selling their delicious burgers\, hot dogs and sides (cash\, debit and credit accepted).\n– Obstacle course & bouncy castle\n– Caricatures\n– Cotton candy\n– Music and Photobooth by SOUNDfonix Entertainment\n– Knottwood 45th Birthday Cake\n– Seniors – learn about the programs and offerings for you!\n– Learn about upcoming programs \nPlus get your 2022-23 Knottwood Community League Membership!\nStay tuned for our website for more details and the parade route. \nRSVP HERE \nVOLUNTEERS NEEDED! Volunteers will receive their 2022-23 KCL memberships for free plus a burger from Woodshed Burgers.\nSign up HERE. \n  \nQUESTIONS? Email info@knottwoodcommunity.ca. \nThank you to the following for making this event possible:\nEdmonton International Street Performers’ Festival\, Woodshed Burgers\, SOUNDfonix Entertainment\, Alberta Foundation for the Arts\, Edmonton Arts Council\, EFCL\, EPCOR Heart and Soul Fund\, City of Edmonton\, Civic Service Union 52\, Knottwood Scouts. \n  \n\n\nThe Knottwood Community Centre is funded in part by\nthe Government of Canada\, the Government of Alberta and the City of Edmonton.
URL:https://knottwoodcommunity.ca/event/knottwood-community-centre-grand-opening-ribbon-cutting-ceremony/
LOCATION:Knottwood Community Centre\, 449 Knottwood Rd West\, NW\, Edmonton\, Alberta\, Canada
CATEGORIES:Adult,Community,Senior,Youth
ATTACH;FMTTYPE=image/jpeg:https://knottwoodcommunity.ca/wp-content/uploads/2022/08/KCL-Grand-Opening-Social-2-scaled.jpg
ORGANIZER;CN="Knottwood Community League Info":MAILTO:info@knottwoodcommunity.ca
END:VEVENT
END:VCALENDAR